BEGIN:VCALENDAR
VERSION:2.0
PRODID:-//creatingopportunitiesforguatemalans.org//NONSGML kigkonsult.se iC
 alcreator 2.30.10//
CALSCALE:GREGORIAN
METHOD:PUBLISH
UID:c31c7945-a9b6-496c-9452-1859efde7542
X-WR-CALDESC:This holiday season\, you can Light Up a Child’s Future!\nThan
 ks to your kindness\, you continue helping students in poverty go to schoo
 l and provide them tutoring\, encouragement\, and a healthy learning envir
 onment they need to thrive. Your contribution helps them build confidence\
 , and stay engaged in school. \nBy supporting our programs\, you are givin
 g more than a donation—you are giving opportunity\, hope\, and a brighter 
 tomorrow!
X-WR-RELCALID:0c9898ac996c4cd518950c1ce3c6063a
X-WR-TIMEZONE:America/Los_Angeles
BEGIN:VTIMEZONE
TZID:America/Los_Angeles
BEGIN:STANDARD
TZNAME:PST
DTSTART:20251102T020000
TZOFFSETFROM:-0700
TZOFFSETTO:-0800
RDATE:20261101T020000
END:STANDARD
BEGIN:DAYLIGHT
TZNAME:PDT
DTSTART:20250309T020000
TZOFFSETFROM:-0800
TZOFFSETTO:-0700
RDATE:20260308T020000
RDATE:20270314T020000
END:DAYLIGHT
END:VTIMEZONE
BEGIN:VEVENT
UID:8d8f0639-0bf4-4f1f-ac0b-b4682b89f5a3
DTSTAMP:20260423T215214Z
DESCRIPTION:This holiday season\, you can Light Up a Child’s Future!\nThank
 s to your kindness\, you continue helping students in poverty go to school
  and provide them tutoring\, encouragement\, and a healthy learning enviro
 nment they need to thrive. Your contribution helps them build confidence\,
  and stay engaged in school. \nBy supporting our programs\, you are giving
  more than a donation—you are giving opportunity\, hope\, and a brighter t
 omorrow!
DTSTART;TZID=America/Los_Angeles:20251201T030000
DTEND;TZID=America/Los_Angeles:20251225T030001
LOCATION:https://creatingopportunitiesforguatemalans.org/donate/donate-toda
 y.html
SUMMARY:Holiday Fundraising Campaign- Light Up a Child’s Future! Give the g
 ift of a brighter future! Goal $30\,000
END:VEVENT
END:VCALENDAR
