BEGIN:VCALENDAR
VERSION:2.0
PRODID:-//creatingopportunitiesforguatemalans.org//NONSGML kigkonsult.se iC
 alcreator 2.30.10//
CALSCALE:GREGORIAN
METHOD:PUBLISH
UID:f123c9ca-e73a-487b-9539-49b7d89ad7e0
X-WR-CALDESC:
X-WR-RELCALID:c2fd1e28c40b20193a0e4dd6a3bc09b4
X-WR-TIMEZONE:America/Belize
BEGIN:VTIMEZONE
TZID:America/Belize
BEGIN:STANDARD
TZNAME:CST
DTSTART:20230318T060000
TZOFFSETFROM:+0000
TZOFFSETTO:-0600
END:STANDARD
END:VTIMEZONE
BEGIN:VEVENT
UID:c241b0b1-af02-49f6-a6ba-c4e5e4134703
DTSTAMP:20260424T202338Z
DESCRIPTION:
DTSTART;TZID=America/Belize:20241217T100000
DTEND;TZID=America/Belize:20250106T100000
LOCATION:
SUMMARY:Closed for Holiday period
END:VEVENT
END:VCALENDAR
