BEGIN:VCALENDAR
VERSION:2.0
PRODID:-//creatingopportunitiesforguatemalans.org//NONSGML kigkonsult.se iC
 alcreator 2.30.10//
CALSCALE:GREGORIAN
METHOD:PUBLISH
UID:693f8fe8-98c2-4a08-93a7-356f4932fe47
X-WR-CALDESC:
X-WR-RELCALID:ea0cba7643b4bea39323c692be004716
X-WR-TIMEZONE:America/Belize
BEGIN:VTIMEZONE
TZID:America/Belize
BEGIN:STANDARD
TZNAME:CST
DTSTART:20230317T060000
TZOFFSETFROM:+0000
TZOFFSETTO:-0600
END:STANDARD
END:VTIMEZONE
BEGIN:VEVENT
UID:e0e7f98f-5926-49aa-a345-3406f8af106d
DTSTAMP:20260424T221655Z
DESCRIPTION:
DTSTART;TZID=America/Belize:20241216T130000
DTEND;TZID=America/Belize:20241216T173000
LOCATION:
SUMMARY:Staff Christmas luncheon
END:VEVENT
END:VCALENDAR
