BEGIN:VCALENDAR
VERSION:2.0
PRODID:-//creatingopportunitiesforguatemalans.org//NONSGML kigkonsult.se iC
 alcreator 2.30.10//
CALSCALE:GREGORIAN
METHOD:PUBLISH
UID:e1bdcd3e-8aec-4979-b0cd-cf02032a366a
X-WR-CALDESC:
X-WR-RELCALID:c18d4a07291768f86e86fcffd8bc40cb
X-WR-TIMEZONE:America/Los_Angeles
BEGIN:VTIMEZONE
TZID:America/Los_Angeles
BEGIN:STANDARD
TZNAME:PST
DTSTART:20241103T020000
TZOFFSETFROM:-0700
TZOFFSETTO:-0800
RDATE:20251102T020000
END:STANDARD
BEGIN:DAYLIGHT
TZNAME:PDT
DTSTART:20240310T020000
TZOFFSETFROM:-0800
TZOFFSETTO:-0700
RDATE:20250309T020000
RDATE:20260308T020000
END:DAYLIGHT
END:VTIMEZONE
BEGIN:VEVENT
UID:0774e795-f697-4521-8397-a446ddfd44ca
DTSTAMP:20260425T000538Z
DESCRIPTION:
DTSTART;TZID=America/Los_Angeles:20241125T030000
DTEND;TZID=America/Los_Angeles:20241125T030001
LOCATION:
SUMMARY:First day of our Vacation Program
END:VEVENT
END:VCALENDAR
