BEGIN:VCALENDAR
VERSION:2.0
PRODID:-//creatingopportunitiesforguatemalans.org//NONSGML kigkonsult.se iC
 alcreator 2.30.10//
CALSCALE:GREGORIAN
METHOD:PUBLISH
UID:8e3a01d6-d0a5-4e1d-aa1c-c5e270f727ea
X-WR-CALDESC:
X-WR-RELCALID:1b43d83cbe95245ed97b3f79fd4b3705
X-WR-TIMEZONE:America/Los_Angeles
BEGIN:VTIMEZONE
TZID:America/Los_Angeles
BEGIN:STANDARD
TZNAME:PST
DTSTART:20241103T020000
TZOFFSETFROM:-0700
TZOFFSETTO:-0800
RDATE:20251102T020000
END:STANDARD
BEGIN:DAYLIGHT
TZNAME:PDT
DTSTART:20240310T020000
TZOFFSETFROM:-0800
TZOFFSETTO:-0700
RDATE:20250309T020000
RDATE:20260308T020000
END:DAYLIGHT
END:VTIMEZONE
BEGIN:VEVENT
UID:6161e0a4-803d-47b7-bc9e-f8bbc2f844bc
DTSTAMP:20260425T000022Z
DESCRIPTION:
DTSTART;TZID=America/Los_Angeles:20241121T030000
DTEND;TZID=America/Los_Angeles:20241121T030001
LOCATION:
SUMMARY:Last day of classes at Primary school
END:VEVENT
END:VCALENDAR
