BEGIN:VCALENDAR
VERSION:2.0
PRODID:-//creatingopportunitiesforguatemalans.org//NONSGML kigkonsult.se iC
 alcreator 2.30.10//
CALSCALE:GREGORIAN
METHOD:PUBLISH
UID:b4e0a870-23a6-4eb8-b40f-e480d3cf2223
X-WR-CALDESC:Planning session for Vacation Program
X-WR-RELCALID:8f92c2d259f286d02329c99f6a3fdf34
X-WR-TIMEZONE:America/Belize
BEGIN:VTIMEZONE
TZID:America/Belize
BEGIN:STANDARD
TZNAME:CST
DTSTART:20230214T060000
TZOFFSETFROM:+0000
TZOFFSETTO:-0600
END:STANDARD
END:VTIMEZONE
BEGIN:VEVENT
UID:9a4f87d0-2676-4185-8985-b40ecf2d4442
DTSTAMP:20260424T235929Z
DESCRIPTION:Planning session for Vacation Program
DTSTART;TZID=America/Belize:20241115T113000
DTEND;TZID=America/Belize:20241115T123000
LOCATION:
SUMMARY:Staff meeting
END:VEVENT
END:VCALENDAR
