BEGIN:VCALENDAR
VERSION:2.0
PRODID:-//creatingopportunitiesforguatemalans.org//NONSGML kigkonsult.se iC
 alcreator 2.30.10//
CALSCALE:GREGORIAN
METHOD:PUBLISH
UID:ec17ed27-48ab-484b-9108-9532c7eca30b
X-WR-CALDESC:
X-WR-RELCALID:7951811bfaa1d483947c15e791deaa22
X-WR-TIMEZONE:America/Chicago
BEGIN:VTIMEZONE
TZID:America/Chicago
BEGIN:STANDARD
TZNAME:CST
DTSTART:20241103T020000
TZOFFSETFROM:-0500
TZOFFSETTO:-0600
RDATE:20251102T020000
END:STANDARD
BEGIN:DAYLIGHT
TZNAME:CDT
DTSTART:20240310T020000
TZOFFSETFROM:-0600
TZOFFSETTO:-0500
RDATE:20250309T020000
RDATE:20260308T020000
END:DAYLIGHT
END:VTIMEZONE
BEGIN:VEVENT
UID:8331694b-9926-4d57-a3b8-c407082aa97a
DTSTAMP:20260424T235431Z
DESCRIPTION:
DTSTART;TZID=America/Chicago:20241115T123000
DTEND;TZID=America/Chicago:20241115T140000
LOCATION:
SUMMARY:Going-away luncheon for volunteers
END:VEVENT
END:VCALENDAR
